BEGIN:VCALENDAR
VERSION:2.0
PRODID:-//CeCIT - ECPv6.15.20//NONSGML v1.0//EN
CALSCALE:GREGORIAN
METHOD:PUBLISH
X-WR-CALNAME:CeCIT
X-ORIGINAL-URL:http://centrodecomercioag.com.ar
X-WR-CALDESC:Eventos para CeCIT
REFRESH-INTERVAL;VALUE=DURATION:PT1H
X-Robots-Tag:noindex
X-PUBLISHED-TTL:PT1H
BEGIN:VTIMEZONE
TZID:America/Argentina/Cordoba
BEGIN:STANDARD
TZOFFSETFROM:-0300
TZOFFSETTO:-0300
TZNAME:-03
DTSTART:20140101T000000
END:STANDARD
END:VTIMEZONE
BEGIN:VEVENT
DTSTART;TZID=America/Argentina/Cordoba:20150723T173000
DTEND;TZID=America/Argentina/Cordoba:20150723T190000
DTSTAMP:20260425T204947
CREATED:20150629T203004Z
LAST-MODIFIED:20150629T203004Z
UID:735-1437672600-1437678000@centrodecomercioag.com.ar
SUMMARY:Historias con caricias - Obra de teatro infantil
DESCRIPTION:20% de descuento sobre el valor de las entradas para Socios Turistas y  socios regulares del Centro de Comercio de Alta Gracia.
URL:http://centrodecomercioag.com.ar/capacitaciones/historias-con-caricias-obra-de-teatro-infantil-2/
LOCATION:Solares Espacio Cultural\, España 60\, Alta Gracia\, Córdoba\, 5186\, Argentina
END:VEVENT
BEGIN:VEVENT
DTSTART;TZID=America/Argentina/Cordoba:20150722T180000
DTEND;TZID=America/Argentina/Cordoba:20150722T180000
DTSTAMP:20260425T204947
CREATED:20150629T203059Z
LAST-MODIFIED:20150629T203059Z
UID:736-1437588000-1437588000@centrodecomercioag.com.ar
SUMMARY:El Inventor de Películas - Obra de Teatro
DESCRIPTION:20% de descuento sobre el valor de las entradas para Socios Turistas y  socios regulares del Centro de Comercio de Alta Gracia.
URL:http://centrodecomercioag.com.ar/capacitaciones/el-inventor-de-peliculas-obra-de-teatro/
LOCATION:Solares Espacio Cultural\, España 60\, Alta Gracia\, Córdoba\, 5186\, Argentina
END:VEVENT
BEGIN:VEVENT
DTSTART;TZID=America/Argentina/Cordoba:20150716T173000
DTEND;TZID=America/Argentina/Cordoba:20150716T190000
DTSTAMP:20260425T204947
CREATED:20150629T202924Z
LAST-MODIFIED:20150629T202924Z
UID:734-1437067800-1437073200@centrodecomercioag.com.ar
SUMMARY:Historias con caricias - Obra de teatro infantil
DESCRIPTION:20% de descuento sobre el valor de las entradas para Socios Turistas y  socios regulares del Centro de Comercio de Alta Gracia.
URL:http://centrodecomercioag.com.ar/capacitaciones/historias-con-caricias-obra-de-teatro-infantil/
LOCATION:Solares Espacio Cultural\, España 60\, Alta Gracia\, Córdoba\, 5186\, Argentina
END:VEVENT
BEGIN:VEVENT
DTSTART;TZID=America/Argentina/Cordoba:20150711T213000
DTEND;TZID=America/Argentina/Cordoba:20150711T230000
DTSTAMP:20260425T204947
CREATED:20150629T202804Z
LAST-MODIFIED:20150629T202804Z
UID:733-1436650200-1436655600@centrodecomercioag.com.ar
SUMMARY:Entre Nos - Obra de teatro
DESCRIPTION:20% de descuento sobre el valor de las entradas para Socios Turistas y  socios regulares del Centro de Comercio de Alta Gracia.
URL:http://centrodecomercioag.com.ar/capacitaciones/entre-nos-obra-de-teatro/
LOCATION:Solares Espacio Cultural\, España 60\, Alta Gracia\, Córdoba\, 5186\, Argentina
END:VEVENT
BEGIN:VEVENT
DTSTART;TZID=America/Argentina/Cordoba:20150710T213000
DTEND;TZID=America/Argentina/Cordoba:20150710T230000
DTSTAMP:20260425T204947
CREATED:20150629T202142Z
LAST-MODIFIED:20150629T202823Z
UID:729-1436563800-1436569200@centrodecomercioag.com.ar
SUMMARY:La Vestido Verde - Obra de Teatro
DESCRIPTION:20% de descuento sobre el valor de las entradas para Socios Turistas y  socios regulares del Centro de Comercio de Alta Gracia.
URL:http://centrodecomercioag.com.ar/capacitaciones/la-vestido-verde-obra-de-teatro/
LOCATION:Solares Espacio Cultural\, España 60\, Alta Gracia\, Córdoba\, 5186\, Argentina
END:VEVENT
BEGIN:VEVENT
DTSTART;TZID=America/Argentina/Cordoba:20150708T130000
DTEND;TZID=America/Argentina/Cordoba:20150708T170000
DTSTAMP:20260425T204947
CREATED:20150618T131629Z
LAST-MODIFIED:20150618T131629Z
UID:689-1436360400-1436374800@centrodecomercioag.com.ar
SUMMARY:Taller gratuito y con certificación para socios: "Atención de Clientes"
DESCRIPTION:Los próximos viernes 03 y miércoles 08 de Julio\, de 13 a 17 hs.\, se desarrollará en la sede del Centro de Comercio (Belisario Roldán 32)\, el Taller Gratuito y con certificación: “Atención de Clientes”. \nQuién estará a cargo de la disertación será el Lic. Luis Costamagna\, y el taller está dirigido exclusivamente a los socios del Centro de Comercio. \nLos propósitos del taller son: \n\nDesarrollar una actitud profesional en la atención de clientes.\nConocer las distintas personalidades de los clientes\, y la estrategia que nos permita optimizar la relación con el mismo.\nDesarrollar una planificación enfocada a la atención de clientes\n\nY los ejes temáticos que se abordarán durante los dos encuentros\, son los siguientes: \n\nConceptos básicos en la atención a clientes.\nClasificación de clientes.\nManejo del cliente de acuerdo a su perfil de compra.\nAbordaje telefónico.\nServicio posventa.\n\n**Por informes e inscripciones\, los interesados deberán dirigirse a la sede del Centro de Comercio\, ubicada en Belisario Roldán 32; comunicarse telefónicamente al (03547) 421163\, o vía mail a:administracion@centrodecomercioag.com.ar.
URL:http://centrodecomercioag.com.ar/capacitaciones/taller-gratuito-y-con-certificacion-para-socios-atencion-de-clientes-2/
LOCATION:Centro de Comercio\, Industria y Turismo de Alta Gracia y sus Sierras\, Belisario Roldán 32\, Alta Gracia\, Córdoba\, 5186\, Argentina
ORGANIZER;CN="Centro de Comercio%2C Industria y Turismo de Alta Gracia y sus Sierras":MAILTO:info@centrodecomercioag.com.ar
END:VEVENT
BEGIN:VEVENT
DTSTART;TZID=America/Argentina/Cordoba:20150703T130000
DTEND;TZID=America/Argentina/Cordoba:20150703T170000
DTSTAMP:20260425T204947
CREATED:20150618T131512Z
LAST-MODIFIED:20150618T131556Z
UID:688-1435928400-1435942800@centrodecomercioag.com.ar
SUMMARY:Taller gratuito y con certificación para socios: "Atención de Clientes"
DESCRIPTION:Los próximos viernes 03 y miércoles 08 de Julio\, de 13 a 17 hs.\, se desarrollará en la sede del Centro de Comercio (Belisario Roldán 32)\, el Taller Gratuito y con certificación: “Atención de Clientes”. \nQuién estará a cargo de la disertación será el Lic. Luis Costamagna\, y el taller está dirigido exclusivamente a los socios del Centro de Comercio. \nLos propósitos del taller son: \n\nDesarrollar una actitud profesional en la atención de clientes.\nConocer las distintas personalidades de los clientes\, y la estrategia que nos permita optimizar la relación con el mismo.\nDesarrollar una planificación enfocada a la atención de clientes\n\nY los ejes temáticos que se abordarán durante los dos encuentros\, son los siguientes: \n\nConceptos básicos en la atención a clientes.\nClasificación de clientes.\nManejo del cliente de acuerdo a su perfil de compra.\nAbordaje telefónico.\nServicio posventa.\n\n**Por informes e inscripciones\, los interesados deberán dirigirse a la sede del Centro de Comercio\, ubicada en Belisario Roldán 32; comunicarse telefónicamente al (03547) 421163\, o vía mail a:administracion@centrodecomercioag.com.ar.
URL:http://centrodecomercioag.com.ar/capacitaciones/taller-gratuito-y-con-certificacion-para-socios-atencion-de-clientes/
LOCATION:Centro de Comercio\, Industria y Turismo de Alta Gracia y sus Sierras\, Belisario Roldán 32\, Alta Gracia\, Córdoba\, 5186\, Argentina
ORGANIZER;CN="Centro de Comercio%2C Industria y Turismo de Alta Gracia y sus Sierras":MAILTO:info@centrodecomercioag.com.ar
END:VEVENT
BEGIN:VEVENT
DTSTART;TZID=America/Argentina/Cordoba:20150629T130000
DTEND;TZID=America/Argentina/Cordoba:20150630T170000
DTSTAMP:20260425T204947
CREATED:20150610T205031Z
LAST-MODIFIED:20150610T205711Z
UID:662-1435582800-1435683600@centrodecomercioag.com.ar
SUMMARY:Taller gratuito y con certificación para socios:  “El lenguaje gestual y corporal: una clave para la comunicación\, la negociación y la venta”.
DESCRIPTION:Los próximos lunes 29 y martes 30 de Junio\, de 13 a 17 hs.\, se desarrollará en la sede del Centro de Comercio (Belisario Roldán 32)\, el Taller Gratuito y con certificación: “El lenguaje gestual y corporal: una clave para la comunicación\, la negociación y la venta”. \nQuién estará a cargo de la disertación será Gastón Bernay Coni\, y el taller está dirigido exclusivamente a los socios del Centro de Comercio. \nLos ejes temáticos que se abordarán durante los dos encuentros\, son los siguientes: \n\nEl rostro y las emociones básicas: cómo se reconocen; la arquitectura facial; los “micro-gestos”: qué significa cada uno de ellos.\nEl uso oratorio y expresivo de las manos: los seis gestos “hipnóticos” de las manos.\nLa mirada y su “enfoque”: los ojos\, las pupilas\, la tasa de parpadeo\, el contacto visual.\nLa “simetría craneana y corporal”.\nEl manejo corporal adecuado: la “proxémica” o distancia adecuada con las demás personas; la “inclinación”\, “orientación” y el “movimiento” del cuerpo humano en la venta y negociación; las formas de sentarse\, caminar y estar parado; las posturas adecuadas de “escucha activa” y de “oratoria”; las “8 claves para detectar la mentira” en los gestos y el cuerpo humano.\nLa universalidad de este lenguaje: los nexos de comportamiento con los animales\, los monos\, perros\, gatos\, etc.\nAnálisis prácticos de videos y fotos al respecto de políticos\, estrellas de la TV\, conductores\, bloopers\, y también de comportamiento animal.\n\n  \n**Por informes e inscripciones\, los interesados deberán dirigirse a la sede del Centro de Comercio\, ubicada en Belisario Roldán 32; comunicarse telefónicamente al (03547) 421163\, o vía mail a:administracion@centrodecomercioag.com.ar.
URL:http://centrodecomercioag.com.ar/capacitaciones/taller-gratuito-y-con-certificacion-para-socios-el-lenguaje-gestual-y-corporal-una-clave-para-la-comunicacion-la-negociacion-y-la-venta/
LOCATION:Centro de Comercio\, Industria y Turismo de Alta Gracia y sus Sierras\, Belisario Roldán 32\, Alta Gracia\, Córdoba\, 5186\, Argentina
ORGANIZER;CN="Centro de Comercio%2C Industria y Turismo de Alta Gracia y sus Sierras":MAILTO:info@centrodecomercioag.com.ar
END:VEVENT
BEGIN:VEVENT
DTSTART;VALUE=DATE:20150611
DTEND;VALUE=DATE:20150615
DTSTAMP:20260425T204947
CREATED:20150610T175403Z
LAST-MODIFIED:20150610T205910Z
UID:648-1433980800-1434326399@centrodecomercioag.com.ar
SUMMARY:Semana del Che en Alta Gracia
DESCRIPTION: JUEVES 11 DE JUNIO \n\n17.00 hs. Inauguración de la Exposición “Quejidos de mapas…Consonancia de Cuerpos” de  Hilda Zagaglia\, en Casa de la Cultura.\n18.00 hs Charla “La evolución de la Responsabilidad Social en Argentina” con la Dra. Alessandra Minnicelli \, abogada\, Procuradora de la UBA y Presidenta de la Fundación Observatorio de la Responsabilidad Social (FORS) – Museo del Che\n19.00 hs. Charla debate acerca del Panorama Sociopolítico de Latinoamérica de las últimas décadas. Con la presencia del Embajador de Cuba y con el Dr. en Historia Javier Moyano – Museo del Che\n20.00 hs. Acto protocolar de inauguración de la XII Semana del Che. Inauguración de la Muestra de Filatelia y Numismática “Homenaje al Che Guevara”- Museo del Che.\n21.000hs. “Los sabores del Che” Comidas típicas de Argentina Cuba\, Bolivia\,  México y Congo con espectáculos y música en vivo con la participación del Ballet Municipal con el espectáculo “Caminos del Che”. Carpa especial –  Museo del Che  –  hasta la medianoche.\n\nVIERNES 12 DE JUNIO \n\n12 a 15:30 – Simultáneas de Ajedrez abiertas y gratuitas en la Plaza Solares a cargo del actual campeón provincial Alejandro Hutt.\n10 y 14hs. Actividad en las escuelas con el Centro de Estudios Che Guevara de la Habana\n16 hs. Taller “Aproximación audiovisual al Che Guevara desde la mirada y la creación de los niños” a cargo del Centro de Estudios Che Guevara de la Habana. – Escuela Victor Mercante\n18 hs. Charla “El hombre y la solidaridad” Con la doctora Susana Roldán\, cordobesa del año 2014\, directora y fundadora de la ONG Una gota del Salud. – Museo del Che.\n19 hs. Charla: “Investigar al Che” con Marta de Dios Sanz\, investigadora literaria\, Horacio López\, periodista\, Luis Altamira\, investigador y Calica Ferrer. – Museo del Che\n20.30hs. Intervención artística “Cartas en tiempos de revolución”. Fragmentos de la correspondencia entre Ernesto Guevara y su esposa Aleida\, interpretada por Marcelo Alonso y acompañada por danzas y música. Museo del Che.\n21 hs. “Los sabores del Che” Comidas típicas de Argentina Cuba\, Bolivia\, México y Congo con espectáculos y música en vivo. Carpa especial –  Museo del Che – Hasta la medianoche.\n\nSÁBADO 13 DE JUNIO \n\n12.00 hasta las 00hs. “Los sabores del Che” Comidas típicas de Argentina Cuba\, Bolivia\, México y Congo con espectáculos y música en vivo. Carpa especial –  Museo del Che.\n9:30 a 12:30 – Encuentro Infanto-juvenil de Ajedrez en la Casa de la Cultura – categorías: sub 8\, sub 10\, sub 12\, sub 14 y sub 18 – Inscripción libre y gratuita.\n\n\n10 hs. Encuentro de motos antiguas en el Museo del Che\n14 hs. Safari Fotográfico – Salida desde el Museo del Che\n15 a 19:00 – Torneo Abierto de Ajedrez Elo Rápido «Memorial GM Héctor Rossetto» en Casa de la Cultura. Con puntaje para el ranking internacional ELO Rápido – Auspicia: Asociación de Ajedrez de la Prov. de Córdoba\n\n\n19hs. Charla “La experiencia educativa en la comunidad\, desde el Centro de Estudios Che Guevara” de la Habana. Museo del Che\n19 a 21:30 – Torneo Abierto de Ajedrez  Elo Blitz «Memorial René Barragán» en Casa de la Cultura  Con puntaje para el ranking internacional ELO Blitz Auspicia: Asoc. de Ajedrez de la Provincia de Córdoba\n\nDOMINGO 14 DE JUNIO \n\n12.00 hasta las 00hs. “Los sabores del Che” Comidas típicas de Argentina Cuba\, Bolivia\, México y Congo con espectáculos y música en vivo. Carpa especial\, Playón del Museo del Che.\n9 a 19hs. Visitas guiadas especiales. Museo del Che\n16 hs. “Hierbas medicinales. La herencia comechingona en la cultura criolla” con Raúl Godoy. Charla con ronda de mates y hierbas. Museo del Che\n17 hs. “Festival de Cuentacuentos Latinoamericanos”: narradores de distintos países de América se reúnen en Museo del Che\n18 hs. Intervención artística “Cartas en tiempos de revolución”. Fragmentos de la correspondencia entre Ernesto Guevara y su esposa Aleida\, interpretada por Marcelo Alonso y acompañada por danzas y música. Museo del Che.
URL:http://centrodecomercioag.com.ar/capacitaciones/semana-del-che-11-14-de-junio/
LOCATION:Museo del Che\, Avellaneda 501\, Alta Gracia\, Córdoba\, 5186\, Argentina
END:VEVENT
END:VCALENDAR